BEGIN:VCALENDAR
VERSION:2.0
PRODID:-//hacksw/handcal//NONSGML v1.0//EN
BEGIN:VEVENT
UID:event_3563@bridgefinland.fi
DTSTAMP:20260420T081918Z
DTSTART;TZID=Europe/Helsinki:20260413T170000
DTEND;TZID=Europe/Helsinki:20260413T180000
SUMMARY:Huhtisimultaani ABC 13.-16.4.
END:VEVENT
END:VCALENDAR
