BEGIN:VCALENDAR
VERSION:2.0
PRODID:-//hacksw/handcal//NONSGML v1.0//EN
BEGIN:VEVENT
UID:event_3594@bridgefinland.fi
DTSTAMP:20260420T105751Z
DTSTART;TZID=Europe/Helsinki:20260604T181500
DTEND;TZID=Europe/Helsinki:20260604T191500
SUMMARY:43. Tammerbridge Tournament MP-IMP
END:VEVENT
END:VCALENDAR
