BEGIN:VCALENDAR
VERSION:2.0
PRODID:-//hacksw/handcal//NONSGML v1.0//EN
BEGIN:VEVENT
UID:event_3595@bridgefinland.fi
DTSTAMP:20260421T141042Z
DTSTART;TZID=Europe/Helsinki:20260605T181500
DTEND;TZID=Europe/Helsinki:20260605T191500
SUMMARY:43. Tammerbridge Tournament MP-Pari
END:VEVENT
END:VCALENDAR
